BEGIN:VCALENDAR
VERSION:2.0
PRODID:-//Miel Brewery - ECPv6.15.20//NONSGML v1.0//EN
CALSCALE:GREGORIAN
METHOD:PUBLISH
X-ORIGINAL-URL:https://www.mielbrewery.com
X-WR-CALDESC:Events for Miel Brewery
REFRESH-INTERVAL;VALUE=DURATION:PT1H
X-Robots-Tag:noindex
X-PUBLISHED-TTL:PT1H
BEGIN:VTIMEZONE
TZID:America/Chicago
BEGIN:DAYLIGHT
TZOFFSETFROM:-0600
TZOFFSETTO:-0500
TZNAME:CDT
DTSTART:20250309T080000
END:DAYLIGHT
BEGIN:STANDARD
TZOFFSETFROM:-0500
TZOFFSETTO:-0600
TZNAME:CST
DTSTART:20251102T070000
END:STANDARD
BEGIN:DAYLIGHT
TZOFFSETFROM:-0600
TZOFFSETTO:-0500
TZNAME:CDT
DTSTART:20260308T080000
END:DAYLIGHT
BEGIN:STANDARD
TZOFFSETFROM:-0500
TZOFFSETTO:-0600
TZNAME:CST
DTSTART:20261101T070000
END:STANDARD
BEGIN:DAYLIGHT
TZOFFSETFROM:-0600
TZOFFSETTO:-0500
TZNAME:CDT
DTSTART:20270314T080000
END:DAYLIGHT
BEGIN:STANDARD
TZOFFSETFROM:-0500
TZOFFSETTO:-0600
TZNAME:CST
DTSTART:20271107T070000
END:STANDARD
END:VTIMEZONE
BEGIN:VEVENT
DTSTART;TZID=America/Chicago:20260315T120000
DTEND;TZID=America/Chicago:20260315T160000
DTSTAMP:20260422T102020
CREATED:20260305T041707Z
LAST-MODIFIED:20260305T041807Z
UID:10003336-1773576000-1773590400@www.mielbrewery.com
SUMMARY:Girl Scout Cookie Pop-up + Beer Flight Pairing
DESCRIPTION:The Girl Scouts are coming to Miel on Sunday\, March 8th AND March 15th from 12pm-4pm to sling cookies by the box so you can stock up! Bonus: they’re our nieces\, so we’re extra proud and excited to host them! But that’s not all:   \n    \nWe are stoked to announce that we will also have Girl Scout cookie and beer pairing flights on this same day starting at 12pm. We have a limited supply of cookies so these flights will be first come\, first served!     \n    \nNeed something savory after dessert? We have some tasty pop-ups line-up too: \n \nSunday 3/8 \n• @bugginoutboils crawfish from 1pm-5pm \n• @geturdimsum pop-up 12pm-6pm \n• @discodaisy shaved ice 12pm-6pm \n \nSunday 3/15 \n• @bugginoutboils crawfish from 1pm-5pm \n• @coops.table pop-up 12pm-6pm \n• @discodaisy shaved ice 12pm-6pm \n   \nMark those calendars for these two amazing days! Cheers!
URL:https://www.mielbrewery.com/event/girl-scout-cookie-pop-up-beer-flight-pairing-2-5/
LOCATION:Miel Brewery & Taproom\, 405 Sixth Street\, New Orleans\, LA\, 70115\, United States
CATEGORIES:food,fundraiser
ATTACH;FMTTYPE=image/jpeg:https://www.mielbrewery.com/wp-content/uploads/2024/12/weekly-events_0303_girl-scout.jpg
END:VEVENT
BEGIN:VEVENT
DTSTART;TZID=America/Chicago:20260315T120000
DTEND;TZID=America/Chicago:20260315T180000
DTSTAMP:20260422T102020
CREATED:20260226T061904Z
LAST-MODIFIED:20260412T052537Z
UID:10003298-1773576000-1773597600@www.mielbrewery.com
SUMMARY:Disco Daisy Shaved Ice Pop-up
DESCRIPTION:We’re super excited to welcome back this sweet pop-up to Miel: Disco Daisy Ice! Catch this ice cold pop-up paired with crawfish and other savory pop-ups. Check out this sample menu from their last pop-up! Please keep in mind that Disco Daisy may change it up to feature new specials. \n 
URL:https://www.mielbrewery.com/event/disco-daisy-shaved-ice-pop-up-2026/2026-03-15/
LOCATION:Miel Brewery & Taproom\, 405 Sixth Street\, New Orleans\, LA\, 70115\, United States
CATEGORIES:food
ATTACH;FMTTYPE=image/jpeg:https://www.mielbrewery.com/wp-content/uploads/2025/05/disco-daisy-shaved-ice_website.jpg
END:VEVENT
BEGIN:VEVENT
DTSTART;TZID=America/Chicago:20260315T120000
DTEND;TZID=America/Chicago:20260315T180000
DTSTAMP:20260422T102020
CREATED:20260305T165337Z
LAST-MODIFIED:20260305T165337Z
UID:10003339-1773576000-1773597600@www.mielbrewery.com
SUMMARY:Coop's Table BBQ Pop-Up
DESCRIPTION:Coop’s Table is firing up something special! Coop’s Table is the brainchild of Sarah Newton\, a Louisiana native with a big passion for backyard grilling\, smoked meats\, and Southern food. A registered dietitian by day and BBQ master by night\, Sarah honed her pit skills through years of cooking for friends\, family\, and events like Hogs for the Cause. \nAt Coop’s Table\, she blends Carolina and Texas BBQ traditions with her own twist\, think smoked pork with adobo aioli\, Boudin Dilla quesadillas\, and maybe even a smoked chicken sandwich that dreams are made of. We truly cannot think of a better pairing to go with your Miel beer! \nBelow is a sample menu from their last pop-up at Miel.
URL:https://www.mielbrewery.com/event/coops-table-bbq-pop-up-2/
LOCATION:Miel Brewery & Taproom\, 405 Sixth Street\, New Orleans\, LA\, 70115\, United States
CATEGORIES:food
ATTACH;FMTTYPE=image/jpeg:https://www.mielbrewery.com/wp-content/uploads/2025/06/Coops-Table-Miel-Brewery_website.jpg
END:VEVENT
BEGIN:VEVENT
DTSTART;TZID=America/Chicago:20260315T130000
DTEND;TZID=America/Chicago:20260315T180000
DTSTAMP:20260422T102020
CREATED:20260226T061518Z
LAST-MODIFIED:20260408T062031Z
UID:10003286-1773579600-1773597600@www.mielbrewery.com
SUMMARY:Buggin' Out Boils Crawfish
DESCRIPTION:Chef Casey with Buggin’ Out Boils is back this crawfish season with Viet-Cajun style crawfish\, traditional crawfish\, and grilled oysters! We’re so excited to partner with Buggin’ Out Boils again and officially welcome crawfish season back to Miel.   \nA few crawfish season reminders:   \n\nSelling out: If Casey sells out of crawfish before the event ends\, we’ll update our Instagram story to keep y’all in the loop.\nPricing: Reach out to Buggin’ Out Boils’ for all the details. Pricing is set by the Chef.\nCancellations: Pop-ups may cancel due to weather\, we’ll post updates in our Instagram story if this happens.\nLarge Group looking for crawfish? Reserve crawfish ahead of time by reaching out to Chef Casey via the Contact page here.\nMiel is family and pet friendly.\n\nBuggin’ Out Boils will be at Miel every Friday\, Saturday\, Sunday\, and Monday!
URL:https://www.mielbrewery.com/event/buggin-out-boils-crawfish-spring-2026/2026-03-15/
LOCATION:Miel Brewery & Taproom\, 405 Sixth Street\, New Orleans\, LA\, 70115\, United States
CATEGORIES:crawfish
ATTACH;FMTTYPE=image/jpeg:https://www.mielbrewery.com/wp-content/uploads/2026/02/buggin-out-boils-viet-cajun-crawfish-website.jpg
END:VEVENT
END:VCALENDAR