BEGIN:VCALENDAR
VERSION:2.0
PRODID:-//Miel Brewery - ECPv6.15.20//NONSGML v1.0//EN
CALSCALE:GREGORIAN
METHOD:PUBLISH
X-ORIGINAL-URL:https://www.mielbrewery.com
X-WR-CALDESC:Events for Miel Brewery
REFRESH-INTERVAL;VALUE=DURATION:PT1H
X-Robots-Tag:noindex
X-PUBLISHED-TTL:PT1H
BEGIN:VTIMEZONE
TZID:America/Chicago
BEGIN:DAYLIGHT
TZOFFSETFROM:-0600
TZOFFSETTO:-0500
TZNAME:CDT
DTSTART:20250309T080000
END:DAYLIGHT
BEGIN:STANDARD
TZOFFSETFROM:-0500
TZOFFSETTO:-0600
TZNAME:CST
DTSTART:20251102T070000
END:STANDARD
BEGIN:DAYLIGHT
TZOFFSETFROM:-0600
TZOFFSETTO:-0500
TZNAME:CDT
DTSTART:20260308T080000
END:DAYLIGHT
BEGIN:STANDARD
TZOFFSETFROM:-0500
TZOFFSETTO:-0600
TZNAME:CST
DTSTART:20261101T070000
END:STANDARD
BEGIN:DAYLIGHT
TZOFFSETFROM:-0600
TZOFFSETTO:-0500
TZNAME:CDT
DTSTART:20270314T080000
END:DAYLIGHT
BEGIN:STANDARD
TZOFFSETFROM:-0500
TZOFFSETTO:-0600
TZNAME:CST
DTSTART:20271107T070000
END:STANDARD
END:VTIMEZONE
BEGIN:VEVENT
DTSTART;TZID=America/Chicago:20260210T170000
DTEND;TZID=America/Chicago:20260210T210000
DTSTAMP:20260422T050046
CREATED:20260210T143910Z
LAST-MODIFIED:20260210T143910Z
UID:10003219-1770742800-1770757200@www.mielbrewery.com
SUMMARY:N8tive Grub Native American Pop-Up
DESCRIPTION:N8tive Grub\, run by husband-and-wife duo Natasha and Arthur Leonard\, is coming back to Miel! They’re bringing their signature fry bread tacos and sweet fry bread treats\, all inspired by Indigenous flavors and served up with their own unique twist. Swing by and give them a warm welcome! \nRead all about N8tive Grub here! \nPictures coming soon! \n[/vc_column_text][/vc_column][/vc_row]
URL:https://www.mielbrewery.com/event/n8tive-grub-native-american-pop-up-2026-2/
LOCATION:Miel Brewery & Taproom\, 405 Sixth Street\, New Orleans\, LA\, 70115\, United States
CATEGORIES:food
ATTACH;FMTTYPE=image/jpeg:https://www.mielbrewery.com/wp-content/uploads/2025/07/n8tive-grub-frybread_at-miel-brewery.jpg
END:VEVENT
END:VCALENDAR