BEGIN:VCALENDAR
VERSION:2.0
PRODID:-//Miel Brewery - ECPv6.15.20//NONSGML v1.0//EN
CALSCALE:GREGORIAN
METHOD:PUBLISH
X-WR-CALNAME:Miel Brewery
X-ORIGINAL-URL:https://www.mielbrewery.com
X-WR-CALDESC:Events for Miel Brewery
REFRESH-INTERVAL;VALUE=DURATION:PT1H
X-Robots-Tag:noindex
X-PUBLISHED-TTL:PT1H
BEGIN:VTIMEZONE
TZID:America/Chicago
BEGIN:DAYLIGHT
TZOFFSETFROM:-0600
TZOFFSETTO:-0500
TZNAME:CDT
DTSTART:20240310T080000
END:DAYLIGHT
BEGIN:STANDARD
TZOFFSETFROM:-0500
TZOFFSETTO:-0600
TZNAME:CST
DTSTART:20241103T070000
END:STANDARD
BEGIN:DAYLIGHT
TZOFFSETFROM:-0600
TZOFFSETTO:-0500
TZNAME:CDT
DTSTART:20250309T080000
END:DAYLIGHT
BEGIN:STANDARD
TZOFFSETFROM:-0500
TZOFFSETTO:-0600
TZNAME:CST
DTSTART:20251102T070000
END:STANDARD
BEGIN:DAYLIGHT
TZOFFSETFROM:-0600
TZOFFSETTO:-0500
TZNAME:CDT
DTSTART:20260308T080000
END:DAYLIGHT
BEGIN:STANDARD
TZOFFSETFROM:-0500
TZOFFSETTO:-0600
TZNAME:CST
DTSTART:20261101T070000
END:STANDARD
END:VTIMEZONE
BEGIN:VEVENT
DTSTART;VALUE=DATE:20250926
DTEND;VALUE=DATE:20250929
DTSTAMP:20260422T152904
CREATED:20250911T153742Z
LAST-MODIFIED:20250927T044553Z
UID:10002698-1758844800-1759103999@www.mielbrewery.com
SUMMARY:OKTOBERFEST AT MIEL
DESCRIPTION:Miel Brewery Oktoberfest 2025 is here! 🇩🇪 Don your most festive dirndl & lederhosen and get ready for this year’s Oktoberfest on the weekend of September 26\, 27\, and 28:\nOktoberfest 2025 is back with: \nFRIDAY \n\n@waska_nola pop-up 5pm-9pm\n@heartshapednola 6pm-9pm\napple strudel hard seltzer slushee special\nradler icebergs\nSEVEN German bier releases:\n\nPilsenbier (4-packs/draft)\nFestbier (4-packs/draft)\nOktoberfest (4-packs/draft)\nSchwarzbier (4-packs/draft)\nRauchbier (draft only)\nMammoth Schwarzbier (draft only)\nHellesbock (draft only)\n\n\n\nSATURDAY \n\n@hatchandharvest annual Bavarian menu 12pm-6pm\nLSU game 2pm\nbaby goat meet and greet with Paradigm Gardens 3pm-5pm\n@heartshapednola desserts 4pm\nstein holding competition 5pm\n@tasteofkultures birria pop-up 6pm-10pm\nLIVE MUSIC: @theunnaturalsband surf punk 7pm-10pm\, no cover!\n\nSUNDAY \n\n@oni_225 pop-up 12pm-5pm\n@emsbakery.br pop-up12pm-5pm\nSaints vs. Bills on the tvs 12pm\nKölsch service 12pm-3pm\nBEER PONG TOURNAMENT: hosted by Donnie and Alex! Sign up at the bar starting at 3pm. Tournament starts at 4pm. Spots are limited\, so snag yours early! The champions will win a $100 bar tab.\n\nDon’t miss out on our limited-edition Oktoberfest shirts and all the festive biergarten vibes! See you soon! \nMeet us in the Biergarten for some delicious German beer and festivities!
URL:https://www.mielbrewery.com/event/oktoberfest-at-miel-2025/
LOCATION:Miel Brewery & Taproom\, 405 Sixth Street\, New Orleans\, LA\, 70115\, United States
CATEGORIES:special
ATTACH;FMTTYPE=image/jpeg:https://www.mielbrewery.com/wp-content/uploads/2025/09/Oktoberfest-2025-IG.jpg
END:VEVENT
BEGIN:VEVENT
DTSTART;TZID=America/Chicago:20250927T120000
DTEND;TZID=America/Chicago:20250927T180000
DTSTAMP:20260422T152904
CREATED:20241230T043007Z
LAST-MODIFIED:20251130T024727Z
UID:10002666-1758974400-1758996000@www.mielbrewery.com
SUMMARY:Hatch + Harvest Food Truck
DESCRIPTION:Hatch + Harvest is rolling into Miel Brewery with their food truck\, serving up the beloved green hatch chile dishes and signature egg rolls we can’t get enough of! Grab their delicious menu items to enjoy in the beer garden as the perfect pairing for your favorite Miel beer. \nDon’t forget\, Hatch + Harvest switches things up weekly\, keeping it fresh with one constant: their legendary egg rolls. Follow our social media for menu updates posted the night before!
URL:https://www.mielbrewery.com/event/2025-hatch-harvest-food-truck/2025-09-27/
LOCATION:Miel Brewery & Taproom\, 405 Sixth Street\, New Orleans\, LA\, 70115\, United States
CATEGORIES:food
ATTACH;FMTTYPE=image/jpeg:https://www.mielbrewery.com/wp-content/uploads/2024/12/Website_Hatch-and-Harvest-food-truck-steak-bowl-and-risotto-balls.jpg
END:VEVENT
BEGIN:VEVENT
DTSTART;TZID=America/Chicago:20250927T150000
DTEND;TZID=America/Chicago:20250927T190000
DTSTAMP:20260422T152904
CREATED:20250621T040423Z
LAST-MODIFIED:20250929T192244Z
UID:10002660-1758985200-1758999600@www.mielbrewery.com
SUMMARY:Heart Shaped Dessert Pop-Up
DESCRIPTION:Pastry chef Rachel Caprera of Heart Shaped Nola knows how to hit the sweet spot—think small batch\, craft cosmic brownies\, cookie sandwiches\, and more. Each month\, she brings something seasonal and irresistible to the table\, like Pineapple Upside Down Cake or bacon fudge brownies. One bite and you’ll see why we’re completely hooked.
URL:https://www.mielbrewery.com/event/heart-shaped-dessert-pop-up/2025-09-27/
LOCATION:Miel Brewery & Taproom\, 405 Sixth Street\, New Orleans\, LA\, 70115\, United States
CATEGORIES:food
ATTACH;FMTTYPE=image/jpeg:https://www.mielbrewery.com/wp-content/uploads/2025/06/Heart-shaped-nola-cosmic-brownies.jpg
END:VEVENT
BEGIN:VEVENT
DTSTART;TZID=America/Chicago:20250927T180000
DTEND;TZID=America/Chicago:20250927T220000
DTSTAMP:20260422T152904
CREATED:20250515T040420Z
LAST-MODIFIED:20251031T044701Z
UID:10002705-1758996000-1759010400@www.mielbrewery.com
SUMMARY:Taste of Kultures Birria/Filipino Pop-Up
DESCRIPTION:We’re so excited to welcome Taste of Kultures to Miel! \nThis woman-owned pop-up is run by the incredible Jerry Chapman\, who’s serving up birria beef and shrimp tacos\, empanadas\, plus rotating specials like her homemade lumpia. Jerry draws from her Filipino roots and pours so much heart into every dish—we first tried her tacos at the Lafreniere Farmers Market and were instantly blown away. She’ll be popping up at Miel twice this week\, so don’t miss your chance to come eat something truly special!
URL:https://www.mielbrewery.com/event/taste-of-kultures-birria-taco-pop-up/2025-09-27/
LOCATION:Miel Brewery & Taproom\, 405 Sixth Street\, New Orleans\, LA\, 70115\, United States
CATEGORIES:food
ATTACH;FMTTYPE=image/jpeg:https://www.mielbrewery.com/wp-content/uploads/2025/05/Taste-of-Kultures_birria-empandas.jpg
END:VEVENT
BEGIN:VEVENT
DTSTART;TZID=America/Chicago:20250927T190000
DTEND;TZID=America/Chicago:20250927T220000
DTSTAMP:20260422T152904
CREATED:20250927T045044Z
LAST-MODIFIED:20250927T045044Z
UID:10002706-1758999600-1759010400@www.mielbrewery.com
SUMMARY:LIVE SHOW: THE UNNATURALS
DESCRIPTION:We have live music by THE UNNATURALS band for Oktoberfest on Saturday night! This free show starts at 7pm so come out and party with one of our 9 German beers in hand. Food by Taste of Kultures pop-up from 6pm-10pm.
URL:https://www.mielbrewery.com/event/live-show-the-unnaturals/
LOCATION:Miel Brewery & Taproom\, 405 Sixth Street\, New Orleans\, LA\, 70115\, United States
CATEGORIES:music
ATTACH;FMTTYPE=image/jpeg:https://www.mielbrewery.com/wp-content/uploads/2025/09/the-unnaturals_show.jpg
END:VEVENT
END:VCALENDAR