BEGIN:VCALENDAR
VERSION:2.0
PRODID:-//Miel Brewery - ECPv6.15.20//NONSGML v1.0//EN
CALSCALE:GREGORIAN
METHOD:PUBLISH
X-ORIGINAL-URL:https://www.mielbrewery.com
X-WR-CALDESC:Events for Miel Brewery
REFRESH-INTERVAL;VALUE=DURATION:PT1H
X-Robots-Tag:noindex
X-PUBLISHED-TTL:PT1H
BEGIN:VTIMEZONE
TZID:America/Chicago
BEGIN:DAYLIGHT
TZOFFSETFROM:-0600
TZOFFSETTO:-0500
TZNAME:CDT
DTSTART:20240310T080000
END:DAYLIGHT
BEGIN:STANDARD
TZOFFSETFROM:-0500
TZOFFSETTO:-0600
TZNAME:CST
DTSTART:20241103T070000
END:STANDARD
BEGIN:DAYLIGHT
TZOFFSETFROM:-0600
TZOFFSETTO:-0500
TZNAME:CDT
DTSTART:20250309T080000
END:DAYLIGHT
BEGIN:STANDARD
TZOFFSETFROM:-0500
TZOFFSETTO:-0600
TZNAME:CST
DTSTART:20251102T070000
END:STANDARD
BEGIN:DAYLIGHT
TZOFFSETFROM:-0600
TZOFFSETTO:-0500
TZNAME:CDT
DTSTART:20260308T080000
END:DAYLIGHT
BEGIN:STANDARD
TZOFFSETFROM:-0500
TZOFFSETTO:-0600
TZNAME:CST
DTSTART:20261101T070000
END:STANDARD
END:VTIMEZONE
BEGIN:VEVENT
DTSTART;TZID=America/Chicago:20250730T170000
DTEND;TZID=America/Chicago:20250730T210000
DTSTAMP:20260419T072356
CREATED:20241230T050246Z
LAST-MODIFIED:20251130T043906Z
UID:10002558-1753894800-1753909200@www.mielbrewery.com
SUMMARY:Get Your Mom & Dim Sum Pop-Up
DESCRIPTION:Get Your Mom & Dim Sum is making a highly anticipated comeback\, popping up at Wednesday Trivia Nights and select Mondays! Chef Andrew Lu and his team serve up New Chinese American dim sum with a Southern twist\, featuring irresistible favorites like the dan dan dumplings that keep everyone coming back for more. \nAfter stepping back to focus on his kitchen at The Holy Ground\, Chef Andrew is bringing back limited pop-ups at Miel\, packed with exciting specials! \nCheck out a sample menu from their last pop-up below\, and don’t forget to follow their Instagram for weekly specials and updates!
URL:https://www.mielbrewery.com/event/2025-get-your-mom-dim-sum-pop-up/2025-07-30/
LOCATION:Miel Brewery & Taproom\, 405 Sixth Street\, New Orleans\, LA\, 70115\, United States
CATEGORIES:food
ATTACH;FMTTYPE=image/jpeg:https://www.mielbrewery.com/wp-content/uploads/2023/05/Get-Ur-Dim-Sum_at-Miel-Brewery_food-fall-2022_1_website.jpg
END:VEVENT
BEGIN:VEVENT
DTSTART;TZID=America/Chicago:20250730T170000
DTEND;TZID=America/Chicago:20250730T210000
DTSTAMP:20260419T072356
CREATED:20250621T040423Z
LAST-MODIFIED:20250929T192244Z
UID:10002541-1753894800-1753909200@www.mielbrewery.com
SUMMARY:Heart Shaped Dessert Pop-Up
DESCRIPTION:Pastry chef Rachel Caprera of Heart Shaped Nola knows how to hit the sweet spot—think small batch\, craft cosmic brownies\, cookie sandwiches\, and more. Each month\, she brings something seasonal and irresistible to the table\, like Pineapple Upside Down Cake or bacon fudge brownies. One bite and you’ll see why we’re completely hooked.
URL:https://www.mielbrewery.com/event/heart-shaped-dessert-pop-up/2025-07-30/
LOCATION:Miel Brewery & Taproom\, 405 Sixth Street\, New Orleans\, LA\, 70115\, United States
CATEGORIES:food
ATTACH;FMTTYPE=image/jpeg:https://www.mielbrewery.com/wp-content/uploads/2025/06/Heart-shaped-nola-cosmic-brownies.jpg
END:VEVENT
BEGIN:VEVENT
DTSTART;TZID=America/Chicago:20250730T190000
DTEND;TZID=America/Chicago:20250730T210000
DTSTAMP:20260419T072356
CREATED:20241213T163618Z
LAST-MODIFIED:20251027T023350Z
UID:10002563-1753902000-1753909200@www.mielbrewery.com
SUMMARY:Trivia with Challenge Entertainment
DESCRIPTION:Join us every Wednesday at Miel for free LIVE Trivia Night with Challenge Entertainment! \nRound up your crew\, grab a table\, and test your knowledge with questions on everything from sports and history to music and science—all while sipping on your favorite Miel beer. \nThe best part? The top teams win prizes! It’s totally free to play\, but we’d love for you to support our pop-up by snagging some tasty eats. \nTrivia kicks off at 7pm sharp—don’t miss the fun!
URL:https://www.mielbrewery.com/event/2025-trivia-with-challenge-entertainment/2025-07-30/
LOCATION:Miel Brewery & Taproom\, 405 Sixth Street\, New Orleans\, LA\, 70115\, United States
CATEGORIES:trivia
ATTACH;FMTTYPE=image/jpeg:https://www.mielbrewery.com/wp-content/uploads/2024/12/Challenge-Entertainment-at-Miel-Logo.jpg
END:VEVENT
END:VCALENDAR