BEGIN:VCALENDAR
VERSION:2.0
PRODID:-//Miel Brewery - ECPv6.15.20//NONSGML v1.0//EN
CALSCALE:GREGORIAN
METHOD:PUBLISH
X-ORIGINAL-URL:https://www.mielbrewery.com
X-WR-CALDESC:Events for Miel Brewery
REFRESH-INTERVAL;VALUE=DURATION:PT1H
X-Robots-Tag:noindex
X-PUBLISHED-TTL:PT1H
BEGIN:VTIMEZONE
TZID:America/Chicago
BEGIN:DAYLIGHT
TZOFFSETFROM:-0600
TZOFFSETTO:-0500
TZNAME:CDT
DTSTART:20230312T080000
END:DAYLIGHT
BEGIN:STANDARD
TZOFFSETFROM:-0500
TZOFFSETTO:-0600
TZNAME:CST
DTSTART:20231105T070000
END:STANDARD
BEGIN:DAYLIGHT
TZOFFSETFROM:-0600
TZOFFSETTO:-0500
TZNAME:CDT
DTSTART:20240310T080000
END:DAYLIGHT
BEGIN:STANDARD
TZOFFSETFROM:-0500
TZOFFSETTO:-0600
TZNAME:CST
DTSTART:20241103T070000
END:STANDARD
BEGIN:DAYLIGHT
TZOFFSETFROM:-0600
TZOFFSETTO:-0500
TZNAME:CDT
DTSTART:20250309T080000
END:DAYLIGHT
BEGIN:STANDARD
TZOFFSETFROM:-0500
TZOFFSETTO:-0600
TZNAME:CST
DTSTART:20251102T070000
END:STANDARD
END:VTIMEZONE
BEGIN:VEVENT
DTSTART;VALUE=DATE:20240819
DTEND;VALUE=DATE:20240824
DTSTAMP:20260420T124758
CREATED:20241213T163627Z
LAST-MODIFIED:20241213T163627Z
UID:10001735-1724025600-1724457599@www.mielbrewery.com
SUMMARY:Closed for Summer Break
DESCRIPTION:Our taproom will be closed from Monday\, August 19th ’til Friday\, August 23rd and we will re-open on Saturday\, August 24th at 11am! \nThis paid summer break is a big thank you to our team for all their hard work. Working in the service industry is a wild ride and we’re grateful to be in a position that allows us some time for rest\, relaxation\, and recharging. \nCome enjoy the beer garden before we close up and stock up on 4-packs while we’re open! You have until Sunday\, August 18th at 8PM until we activate the automated “we’re on vay-cay” email message again. NO PRESSURE! \nCheers!\nJanice + Alex
URL:https://www.mielbrewery.com/event/closed-for-summer-break/
LOCATION:Miel Brewery & Taproom\, 405 Sixth Street\, New Orleans\, LA\, 70115\, United States
CATEGORIES:closed
ATTACH;FMTTYPE=image/jpeg:https://www.mielbrewery.com/wp-content/uploads/2024/08/summer-break-2024_flyer.jpeg
END:VEVENT
BEGIN:VEVENT
DTSTART;TZID=America/Chicago:20240823T200000
DTEND;TZID=America/Chicago:20240823T200000
DTSTAMP:20260420T124758
CREATED:20241213T163609Z
LAST-MODIFIED:20241213T163609Z
UID:10002005-1724443200-1724443200@www.mielbrewery.com
SUMMARY:The Campfryer Pop-Up
DESCRIPTION:The Campfryer often sells out of their entire menu for a reason: everything is absolutely delicious! The Campfryer is a pop-up by Chef James Robbins that features delicious bar snacks made to share. James hails from Canada and is excited to share his years of experience in some of Canada’s top kitchens in New Orleans. \nBelow is a menu from a previous pop-up. The Campfryer plans on changing its menu on a weekly basis! \n\n\n\n\n\nFollow The Campfryer on Instagram for updates and all their pop-up locations!
URL:https://www.mielbrewery.com/event/the-campfryer-pop-up-2024/2024-08-23/
LOCATION:Miel Brewery & Taproom\, 405 Sixth Street\, New Orleans\, LA\, 70115\, United States
CATEGORIES:food
ATTACH;FMTTYPE=image/jpeg:https://www.mielbrewery.com/wp-content/uploads/2023/05/Miel-Brewery_Campfryer-food-2_website.jpg
END:VEVENT
END:VCALENDAR