BEGIN:VCALENDAR
VERSION:2.0
PRODID:-//Miel Brewery - ECPv6.15.20//NONSGML v1.0//EN
CALSCALE:GREGORIAN
METHOD:PUBLISH
X-WR-CALNAME:Miel Brewery
X-ORIGINAL-URL:https://www.mielbrewery.com
X-WR-CALDESC:Events for Miel Brewery
REFRESH-INTERVAL;VALUE=DURATION:PT1H
X-Robots-Tag:noindex
X-PUBLISHED-TTL:PT1H
BEGIN:VTIMEZONE
TZID:America/Chicago
BEGIN:DAYLIGHT
TZOFFSETFROM:-0600
TZOFFSETTO:-0500
TZNAME:CDT
DTSTART:20230312T080000
END:DAYLIGHT
BEGIN:STANDARD
TZOFFSETFROM:-0500
TZOFFSETTO:-0600
TZNAME:CST
DTSTART:20231105T070000
END:STANDARD
BEGIN:DAYLIGHT
TZOFFSETFROM:-0600
TZOFFSETTO:-0500
TZNAME:CDT
DTSTART:20240310T080000
END:DAYLIGHT
BEGIN:STANDARD
TZOFFSETFROM:-0500
TZOFFSETTO:-0600
TZNAME:CST
DTSTART:20241103T070000
END:STANDARD
BEGIN:DAYLIGHT
TZOFFSETFROM:-0600
TZOFFSETTO:-0500
TZNAME:CDT
DTSTART:20250309T080000
END:DAYLIGHT
BEGIN:STANDARD
TZOFFSETFROM:-0500
TZOFFSETTO:-0600
TZNAME:CST
DTSTART:20251102T070000
END:STANDARD
END:VTIMEZONE
BEGIN:VEVENT
DTSTART;TZID=America/Chicago:20240817T120000
DTEND;TZID=America/Chicago:20240817T180000
DTSTAMP:20260420T114335
CREATED:20241213T163615Z
LAST-MODIFIED:20241213T163615Z
UID:10001744-1723896000-1723917600@www.mielbrewery.com
SUMMARY:Hatch + Harvest Food Truck
DESCRIPTION:Hatch + Harvest is parking their food truck at Miel and serving up those green hatch chile dishes and egg rolls we all love! Come get their delicious menu to enjoy in the beer garden or to go with a Miel beer. \nBelow is the official menu for this pop-up. Please keep in mind that Hatch + Harvest changes their menu every week\, except for their delicious staple: the eggrolls! We post the menu on our social media pages the night before.
URL:https://www.mielbrewery.com/event/hatch-harvest-food-truck-4/2024-08-17/
LOCATION:Miel Brewery & Taproom\, 405 Sixth Street\, New Orleans\, LA\, 70115\, United States
CATEGORIES:food
ATTACH;FMTTYPE=image/jpeg:https://www.mielbrewery.com/wp-content/uploads/2023/04/Miel-Brewery_Hatch-and-Harvest-food-2_website-1.jpg
END:VEVENT
BEGIN:VEVENT
DTSTART;TZID=America/Chicago:20240817T180000
DTEND;TZID=America/Chicago:20240817T220000
DTSTAMP:20260420T114335
CREATED:20241213T163627Z
LAST-MODIFIED:20241213T163627Z
UID:10001742-1723917600-1723932000@www.mielbrewery.com
SUMMARY:Kusina Filipino Pop-Up
DESCRIPTION:Don’t miss out on Kusina\, a Filipino inspired pop-up by Chef Bruno! \nChef Bruno started Kusina in November 2020; Bruno was working at Shaya but looking to pursue his own passion. Kusina has since popped-up at some of our favorite places in the city including Coffee Science and Union Ramen. We’re really excited to have his crew come to Miel with their delicious menu! \n\nBelow is the menu from their last pop-up. Check out our Instagram story the night before to see the menu for the pop-up!
URL:https://www.mielbrewery.com/event/kusina-filipino-pop-up-3-2/
LOCATION:Miel Brewery & Taproom\, 405 Sixth Street\, New Orleans\, LA\, 70115\, United States
CATEGORIES:food
ATTACH;FMTTYPE=image/jpeg:https://www.mielbrewery.com/wp-content/uploads/2023/05/Miel-Brewery_Kusina-food_website.jpg
END:VEVENT
BEGIN:VEVENT
DTSTART;TZID=America/Chicago:20240817T180000
DTEND;TZID=America/Chicago:20240817T220000
DTSTAMP:20260420T114335
CREATED:20241213T163628Z
LAST-MODIFIED:20241213T163628Z
UID:10001740-1723917600-1723932000@www.mielbrewery.com
SUMMARY:Kusina Filipino Pop-Up
DESCRIPTION:Don’t miss out on Kusina\, a Filipino inspired pop-up by Chef Bruno! \nChef Bruno started Kusina in November 2020; Bruno was working at Shaya but looking to pursue his own passion. Kusina has since popped-up at some of our favorite places in the city including Coffee Science and Union Ramen. We’re really excited to have his crew come to Miel with their delicious menu! \n\nBelow is the menu from their last pop-up. Check out our Instagram story the night before to see the menu for the pop-up!
URL:https://www.mielbrewery.com/event/kusina-filipino-pop-up-3-2-2/
LOCATION:Miel Brewery & Taproom\, 405 Sixth Street\, New Orleans\, LA\, 70115\, United States
CATEGORIES:food
ATTACH;FMTTYPE=image/jpeg:https://www.mielbrewery.com/wp-content/uploads/2023/05/Miel-Brewery_Kusina-food_website.jpg
END:VEVENT
END:VCALENDAR