BEGIN:VCALENDAR
VERSION:2.0
PRODID:-//Miel Brewery - ECPv6.15.20//NONSGML v1.0//EN
CALSCALE:GREGORIAN
METHOD:PUBLISH
X-WR-CALNAME:Miel Brewery
X-ORIGINAL-URL:https://www.mielbrewery.com
X-WR-CALDESC:Events for Miel Brewery
REFRESH-INTERVAL;VALUE=DURATION:PT1H
X-Robots-Tag:noindex
X-PUBLISHED-TTL:PT1H
BEGIN:VTIMEZONE
TZID:America/Chicago
BEGIN:DAYLIGHT
TZOFFSETFROM:-0600
TZOFFSETTO:-0500
TZNAME:CDT
DTSTART:20230312T080000
END:DAYLIGHT
BEGIN:STANDARD
TZOFFSETFROM:-0500
TZOFFSETTO:-0600
TZNAME:CST
DTSTART:20231105T070000
END:STANDARD
BEGIN:DAYLIGHT
TZOFFSETFROM:-0600
TZOFFSETTO:-0500
TZNAME:CDT
DTSTART:20240310T080000
END:DAYLIGHT
BEGIN:STANDARD
TZOFFSETFROM:-0500
TZOFFSETTO:-0600
TZNAME:CST
DTSTART:20241103T070000
END:STANDARD
BEGIN:DAYLIGHT
TZOFFSETFROM:-0600
TZOFFSETTO:-0500
TZNAME:CDT
DTSTART:20250309T080000
END:DAYLIGHT
BEGIN:STANDARD
TZOFFSETFROM:-0500
TZOFFSETTO:-0600
TZNAME:CST
DTSTART:20251102T070000
END:STANDARD
END:VTIMEZONE
BEGIN:VEVENT
DTSTART;TZID=America/Chicago:20240713T120000
DTEND;TZID=America/Chicago:20240713T160000
DTSTAMP:20260419T083559
CREATED:20241213T163624Z
LAST-MODIFIED:20241213T163624Z
UID:10001661-1720872000-1720886400@www.mielbrewery.com
SUMMARY:Southerns Food Truck
DESCRIPTION:Treat yourself to Southerns delicious Nashville hot chicken and some Miel beer! \nWhether you like your chicken mild or super spicy\, they have something for everyone. They took the award for “Best Use of Chicken in a Dish” award at the Fried Chicken Festival for a reason; it’s so good!
URL:https://www.mielbrewery.com/event/southerns-food-truck-6-2/
LOCATION:Miel Brewery & Taproom\, 405 Sixth Street\, New Orleans\, LA\, 70115\, United States
CATEGORIES:food
ATTACH;FMTTYPE=image/jpeg:https://www.mielbrewery.com/wp-content/uploads/2023/04/Miel-Brewery_Southerns-fried-chicken-food_website.jpg
END:VEVENT
BEGIN:VEVENT
DTSTART;TZID=America/Chicago:20240713T160000
DTEND;TZID=America/Chicago:20240713T230000
DTSTAMP:20260419T083559
CREATED:20241213T163624Z
LAST-MODIFIED:20241213T163624Z
UID:10001682-1720886400-1720911600@www.mielbrewery.com
SUMMARY:Closed for a Private Event
DESCRIPTION:We’re closing the taproom and beer garden at 5pm for a Private Event in the evening! We WILL be open from 11am-5pm earlier that day! Be sure to come visit us before we close to stock up on beer. \nIf you are interested in hosting your event in our space\, please email check out our RESERVE page for more information!
URL:https://www.mielbrewery.com/event/closed-for-a-private-event-071324/
LOCATION:Miel Brewery & Taproom\, 405 Sixth Street\, New Orleans\, LA\, 70115\, United States
CATEGORIES:closed
ATTACH;FMTTYPE=image/jpeg:https://www.mielbrewery.com/wp-content/uploads/2023/08/MielBrewery_Privateeventsign.jpg
END:VEVENT
END:VCALENDAR