BEGIN:VCALENDAR
VERSION:2.0
PRODID:-//Miel Brewery - ECPv6.15.20//NONSGML v1.0//EN
CALSCALE:GREGORIAN
METHOD:PUBLISH
X-WR-CALNAME:Miel Brewery
X-ORIGINAL-URL:https://www.mielbrewery.com
X-WR-CALDESC:Events for Miel Brewery
REFRESH-INTERVAL;VALUE=DURATION:PT1H
X-Robots-Tag:noindex
X-PUBLISHED-TTL:PT1H
BEGIN:VTIMEZONE
TZID:America/Chicago
BEGIN:DAYLIGHT
TZOFFSETFROM:-0600
TZOFFSETTO:-0500
TZNAME:CDT
DTSTART:20230312T080000
END:DAYLIGHT
BEGIN:STANDARD
TZOFFSETFROM:-0500
TZOFFSETTO:-0600
TZNAME:CST
DTSTART:20231105T070000
END:STANDARD
BEGIN:DAYLIGHT
TZOFFSETFROM:-0600
TZOFFSETTO:-0500
TZNAME:CDT
DTSTART:20240310T080000
END:DAYLIGHT
BEGIN:STANDARD
TZOFFSETFROM:-0500
TZOFFSETTO:-0600
TZNAME:CST
DTSTART:20241103T070000
END:STANDARD
BEGIN:DAYLIGHT
TZOFFSETFROM:-0600
TZOFFSETTO:-0500
TZNAME:CDT
DTSTART:20250309T080000
END:DAYLIGHT
BEGIN:STANDARD
TZOFFSETFROM:-0500
TZOFFSETTO:-0600
TZNAME:CST
DTSTART:20251102T070000
END:STANDARD
END:VTIMEZONE
BEGIN:VEVENT
DTSTART;TZID=America/Chicago:20240427T120000
DTEND;TZID=America/Chicago:20240427T170000
DTSTAMP:20260422T130601
CREATED:20241213T163621Z
LAST-MODIFIED:20241213T163621Z
UID:10001495-1714219200-1714237200@www.mielbrewery.com
SUMMARY:Crawfish + Chicken by Southerns Food Truck
DESCRIPTION:Southerns is dropping crawfish boil at Miel this season! Come try their amazing Viet-Pinoy crawfish made to order with your preferred spice level. They’ll also be serving their regular and delicious chicken menu from the food truck! \nCome early to make sure y’all get some before they sell out. If Southerns sells out before the end time then we’ll post an update in our Instagram story. \nPrices are set by Southerns and can be found on their Instagram page. \nPlease keep in mind that Southerns may cancel the crawfish boil pop-up due to inclement weather. \nLastly\, we recommend large groups reserve crawfish by contacting Southerns through Instagram. \nPs. Reminder that Miel is family and pet-friendly!
URL:https://www.mielbrewery.com/event/crawfish-by-southerns-food-truck-3/
LOCATION:Miel Brewery & Taproom\, 405 Sixth Street\, New Orleans\, LA\, 70115\, United States
CATEGORIES:crawfish
ATTACH;FMTTYPE=image/jpeg:https://www.mielbrewery.com/wp-content/uploads/2024/02/Southerns-viet-pinoy-style-crawfish-at-Miel-Brewery_website.jpg
END:VEVENT
BEGIN:VEVENT
DTSTART;TZID=America/Chicago:20240427T180000
DTEND;TZID=America/Chicago:20240427T220000
DTSTAMP:20260422T130601
CREATED:20241213T163612Z
LAST-MODIFIED:20241213T163612Z
UID:10001476-1714240800-1714255200@www.mielbrewery.com
SUMMARY:Nori Guys Sushi Taco Pop-Up
DESCRIPTION:Nori Guys serves Southeast Asian street food with a modern twist in the form of sushi tacos\, wontons\, and more. We can’t wait to eat it all! \nBelow is a menu from their last pop-up as a sample! We post the official menu to our Instagram story on the day of their pop-up. \nGive them a follow on Instagram to see all their pop-ups around town.
URL:https://www.mielbrewery.com/event/nori-guys-sushi-taco-pop-up-3/2024-04-27/
LOCATION:Miel Brewery & Taproom\, 405 Sixth Street\, New Orleans\, LA\, 70115\, United States
CATEGORIES:food
ATTACH;FMTTYPE=image/jpeg:https://www.mielbrewery.com/wp-content/uploads/2023/08/Miel-Brewery_The-Nori-Guys-Sushi-Taco-Pop-Up_food-pic-August-2023.jpg-1.jpg
END:VEVENT
END:VCALENDAR