BEGIN:VCALENDAR
VERSION:2.0
PRODID:-//Miel Brewery - ECPv6.15.20//NONSGML v1.0//EN
CALSCALE:GREGORIAN
METHOD:PUBLISH
X-ORIGINAL-URL:https://www.mielbrewery.com
X-WR-CALDESC:Events for Miel Brewery
REFRESH-INTERVAL;VALUE=DURATION:PT1H
X-Robots-Tag:noindex
X-PUBLISHED-TTL:PT1H
BEGIN:VTIMEZONE
TZID:America/Chicago
BEGIN:DAYLIGHT
TZOFFSETFROM:-0600
TZOFFSETTO:-0500
TZNAME:CDT
DTSTART:20230312T080000
END:DAYLIGHT
BEGIN:STANDARD
TZOFFSETFROM:-0500
TZOFFSETTO:-0600
TZNAME:CST
DTSTART:20231105T070000
END:STANDARD
BEGIN:DAYLIGHT
TZOFFSETFROM:-0600
TZOFFSETTO:-0500
TZNAME:CDT
DTSTART:20240310T080000
END:DAYLIGHT
BEGIN:STANDARD
TZOFFSETFROM:-0500
TZOFFSETTO:-0600
TZNAME:CST
DTSTART:20241103T070000
END:STANDARD
BEGIN:DAYLIGHT
TZOFFSETFROM:-0600
TZOFFSETTO:-0500
TZNAME:CDT
DTSTART:20250309T080000
END:DAYLIGHT
BEGIN:STANDARD
TZOFFSETFROM:-0500
TZOFFSETTO:-0600
TZNAME:CST
DTSTART:20251102T070000
END:STANDARD
END:VTIMEZONE
BEGIN:VEVENT
DTSTART;TZID=America/Chicago:20240417T170000
DTEND;TZID=America/Chicago:20240417T210000
DTSTAMP:20260421T203243
CREATED:20241213T163607Z
LAST-MODIFIED:20241230T040548Z
UID:10001498-1713373200-1713387600@www.mielbrewery.com
SUMMARY:Waska Latin Food Pop-Up
DESCRIPTION:We’ve been searching for a pop-up cooking up authentic Latin food and we’re so excited to have them pop-up at Miel! Get ready for tasty plantains\, arepas\, and sometimes the famous Picada dish by Waska. \nChef Jose brings his amazing Latin street food that pairs perfectly with a Miel beer. The menu changes up\, but the Latin flavors are always on point! \n\n\n\n\n\nGive Waska a follow on Instagram to see all their pop-ups around town!
URL:https://www.mielbrewery.com/event/waska-latin-food-pop-up/2024-04-17/
LOCATION:Miel Brewery & Taproom\, 405 Sixth Street\, New Orleans\, LA\, 70115\, United States
CATEGORIES:food
ATTACH;FMTTYPE=image/jpeg:https://www.mielbrewery.com/wp-content/uploads/2023/05/Arepas-by-Waska-Nola-pop-up-at-Miel-Brewery_webside.jpg
END:VEVENT
BEGIN:VEVENT
DTSTART;TZID=America/Chicago:20240417T190000
DTEND;TZID=America/Chicago:20240417T210000
DTSTAMP:20260421T203243
CREATED:20241213T163618Z
LAST-MODIFIED:20251027T023350Z
UID:10001503-1713380400-1713387600@www.mielbrewery.com
SUMMARY:Trivia with Challenge Entertainment
DESCRIPTION:Join us every Wednesday at Miel for free LIVE Trivia Night with Challenge Entertainment! \nRound up your crew\, grab a table\, and test your knowledge with questions on everything from sports and history to music and science—all while sipping on your favorite Miel beer. \nThe best part? The top teams win prizes! It’s totally free to play\, but we’d love for you to support our pop-up by snagging some tasty eats. \nTrivia kicks off at 7pm sharp—don’t miss the fun!
URL:https://www.mielbrewery.com/event/2025-trivia-with-challenge-entertainment/2024-04-17/
LOCATION:Miel Brewery & Taproom\, 405 Sixth Street\, New Orleans\, LA\, 70115\, United States
CATEGORIES:trivia
ATTACH;FMTTYPE=image/jpeg:https://www.mielbrewery.com/wp-content/uploads/2024/12/Challenge-Entertainment-at-Miel-Logo.jpg
END:VEVENT
END:VCALENDAR